BEGIN:VCALENDAR
VERSION:2.0
PRODID:icalendar-ruby
CALSCALE:GREGORIAN
METHOD:PUBLISH
BEGIN:VEVENT
DTSTAMP:20260422T224536Z
UID:18-1971730@asburyabq.org
DTSTART:20260920T154500Z
DTEND:20260920T164500Z
CLASS:PUBLIC
CREATED:20260422T150837
DESCRIPTION:Traditional Adult Bible Study
LAST-MODIFIED:20260422T150837
LOCATION:Classrooms 1 & 2
SUMMARY:Traditional Adult Bible Study
URL;VALUE=URI:https://www.asburyabq.org/events/traditional-adult-bible-stud
 y/2026-09-20
END:VEVENT
END:VCALENDAR
