BEGIN:VCALENDAR
VERSION:2.0
PRODID:icalendar-ruby
CALSCALE:GREGORIAN
METHOD:PUBLISH
BEGIN:VEVENT
DTSTAMP:20260423T023136Z
UID:18-1972852@asburyabq.org
DTSTART:20261004T154500Z
DTEND:20261004T164500Z
CLASS:PUBLIC
CREATED:20260422T180020
DESCRIPTION:Traditional Adult Bible Study
LAST-MODIFIED:20260422T180020
LOCATION:Classrooms 1 & 2
SUMMARY:Traditional Adult Bible Study
URL;VALUE=URI:https://www.asburyabq.org/events/traditional-adult-bible-stud
 y/2026-10-04
END:VEVENT
END:VCALENDAR
