BEGIN:VCALENDAR
VERSION:2.0
PRODID:icalendar-ruby
CALSCALE:GREGORIAN
METHOD:PUBLISH
BEGIN:VEVENT
DTSTAMP:20260423T043426Z
UID:18-1973974@asburyabq.org
DTSTART:20261011T154500Z
DTEND:20261011T164500Z
CLASS:PUBLIC
CREATED:20260422T205427
DESCRIPTION:Traditional Adult Bible Study
LAST-MODIFIED:20260422T205427
LOCATION:Classrooms 1 & 2
SUMMARY:Traditional Adult Bible Study
URL;VALUE=URI:https://www.asburyabq.org/events/traditional-adult-bible-stud
 y/2026-10-11
END:VEVENT
END:VCALENDAR
